BEGIN:VCALENDAR
VERSION:2.0
PRODID:icalendar-ruby
CALSCALE:GREGORIAN
BEGIN:VEVENT
DTSTAMP:20210122T045719Z
UID:15870067-589f-45a1-b11e-9329499d1dd9
DTSTART;TZID=Pacific/Auckland:20210123T110000
DTEND;TZID=Pacific/Auckland:20210123T113000
DESCRIPTION:Property ID# 500244
SUMMARY:Openhome for 30 Ferguson Street
END:VEVENT
END:VCALENDAR
