BEGIN:VCALENDAR
VERSION:2.0
PRODID:icalendar-ruby
CALSCALE:GREGORIAN
BEGIN:VEVENT
DTSTAMP:20210122T045755Z
UID:feea1c2a-4bd4-4095-aa65-b7f11e79876c
DTSTART;TZID=Pacific/Auckland:20210120T180000
DTEND;TZID=Pacific/Auckland:20210120T183000
DESCRIPTION:Property ID# 499639
SUMMARY:Openhome for 48 Gray Avenue
END:VEVENT
END:VCALENDAR
