BEGIN:VCALENDAR
VERSION:2.0
PRODID:icalendar-ruby
CALSCALE:GREGORIAN
BEGIN:VEVENT
DTSTAMP:20210122T045822Z
UID:c978afd8-c2a0-4190-9f4f-7ca7ecf041f8
DTSTART;TZID=Pacific/Auckland:20210121T134500
DTEND;TZID=Pacific/Auckland:20210121T144500
DESCRIPTION:Property ID# 499054
SUMMARY:Openhome for 
END:VEVENT
END:VCALENDAR
