BEGIN:VCALENDAR
VERSION:2.0
PRODID:icalendar-ruby
CALSCALE:GREGORIAN
BEGIN:VEVENT
DTSTAMP:20210122T050549Z
UID:3dd0c972-1d07-41ee-b057-7b6bc4034e02
DTSTART;TZID=Pacific/Auckland:20210122T130000
DTEND;TZID=Pacific/Auckland:20210122T133000
DESCRIPTION:Property ID# 499410
SUMMARY:Openhome for 
END:VEVENT
END:VCALENDAR
