BEGIN:VCALENDAR
VERSION:2.0
PRODID:icalendar-ruby
CALSCALE:GREGORIAN
BEGIN:VEVENT
DTSTAMP:20210122T045747Z
UID:60bbb6a7-ce06-48b8-8761-faf55c51b282
DTSTART;TZID=Pacific/Auckland:20210124T113000
DTEND;TZID=Pacific/Auckland:20210124T120000
DESCRIPTION:Property ID# 498992
SUMMARY:Openhome for 14 Shayla Place
END:VEVENT
END:VCALENDAR
