BEGIN:VCALENDAR
VERSION:2.0
PRODID:icalendar-ruby
CALSCALE:GREGORIAN
BEGIN:VEVENT
DTSTAMP:20210122T045801Z
UID:bd4d16de-9c2b-4828-ac0c-f204410e3961
DTSTART;TZID=Pacific/Auckland:20210123T120000
DTEND;TZID=Pacific/Auckland:20210123T124500
DESCRIPTION:Property ID# 499640
SUMMARY:Openhome for 15 Sandwick Drive
END:VEVENT
END:VCALENDAR
