BEGIN:VCALENDAR
VERSION:2.0
PRODID:icalendar-ruby
CALSCALE:GREGORIAN
BEGIN:VEVENT
DTSTAMP:20210122T045726Z
UID:2179e685-f8b6-4610-bb68-73728fb9fe1c
DTSTART;VALUE=DATE:20210220
DESCRIPTION:Property ID# 500246\, Time: 1:30PM
SUMMARY:Auction for 25 Clayton Ave
END:VEVENT
END:VCALENDAR
