BEGIN:VCALENDAR
VERSION:2.0
PRODID:icalendar-ruby
CALSCALE:GREGORIAN
BEGIN:VEVENT
DTSTAMP:20210122T045721Z
UID:de1b0ac7-6408-41c4-bf13-c0e468a7ea84
DTSTART;VALUE=DATE:20210213
DESCRIPTION:Property ID# 500244\, Time: 12:00AM
SUMMARY:Auction for 30 Ferguson Street
END:VEVENT
END:VCALENDAR
