BEGIN:VCALENDAR
VERSION:2.0
PRODID:icalendar-ruby
CALSCALE:GREGORIAN
BEGIN:VEVENT
DTSTAMP:20210122T045807Z
UID:8669d99a-30b6-4c2c-a614-74fbc8e21714
DTSTART;VALUE=DATE:20210207
DESCRIPTION:Property ID# 499645\, Locatoin: On Site\, Time: 2:30PM
SUMMARY:Auction for 21a Bledisloe Street
END:VEVENT
END:VCALENDAR
