BEGIN:VCALENDAR
VERSION:2.0
PRODID:icalendar-ruby
CALSCALE:GREGORIAN
BEGIN:VEVENT
DTSTAMP:20210122T045806Z
UID:f30b16f8-4f76-4ad6-850c-455752d21c21
DTSTART;VALUE=DATE:20210207
DESCRIPTION:Property ID# 499644\, Time: 2:30PM
SUMMARY:Auction for 21 Bledisloe Street
END:VEVENT
END:VCALENDAR
