BEGIN:VCALENDAR
VERSION:2.0
PRODID:icalendar-ruby
CALSCALE:GREGORIAN
BEGIN:VEVENT
DTSTAMP:20210122T045802Z
UID:2e2b6447-92b5-4d0e-bd77-382347ad5f18
DTSTART;VALUE=DATE:20210131
DESCRIPTION:Property ID# 499640\, Time: 4:30PM
SUMMARY:Auction for 15 Sandwick Drive
END:VEVENT
END:VCALENDAR
