BEGIN:VCALENDAR
VERSION:2.0
PRODID:icalendar-ruby
CALSCALE:GREGORIAN
BEGIN:VEVENT
DTSTAMP:20210122T045756Z
UID:073aab45-dbb5-4646-8d33-1a8dac5daf28
DTSTART;VALUE=DATE:20210213
DESCRIPTION:Property ID# 499639\, Time: 12:00PM
SUMMARY:Auction for 48 Gray Avenue
END:VEVENT
END:VCALENDAR
