BEGIN:VCALENDAR
VERSION:2.0
PRODID:icalendar-ruby
CALSCALE:GREGORIAN
BEGIN:VEVENT
DTSTAMP:20210122T045816Z
UID:4c10928a-69b0-4004-beb5-d72c8b17e4c2
DTSTART;VALUE=DATE:20210128
DESCRIPTION:Property ID# 499055\, Locatoin: 128 Hurstmere Road\, Takapuna\,
  Time: 6:30PM
SUMMARY:Auction for 
END:VEVENT
END:VCALENDAR
