BEGIN:VCALENDAR
VERSION:2.0
PRODID:icalendar-ruby
CALSCALE:GREGORIAN
BEGIN:VEVENT
DTSTAMP:20210122T050603Z
UID:22284c15-8473-4c52-ae3a-1b651c4cfb11
DTSTART;VALUE=DATE:20210121
DESCRIPTION:Property ID# 499053\, Locatoin: 128 Hurstmere Road\, Takapuna\,
  Time: 6:30PM
SUMMARY:Auction for 
END:VEVENT
END:VCALENDAR
