BEGIN:VCALENDAR
VERSION:2.0
PRODID:icalendar-ruby
CALSCALE:GREGORIAN
BEGIN:VEVENT
DTSTAMP:20210122T050516Z
UID:b8aa8c7e-2272-4b5c-bead-0d5a77bf267f
DTSTART;VALUE=DATE:20201220
DESCRIPTION:Property ID# 497438\, Locatoin: On Site\, Time: 10:30AM
SUMMARY:Auction for 
END:VEVENT
END:VCALENDAR
