BEGIN:VCALENDAR
VERSION:2.0
PRODID:icalendar-ruby
CALSCALE:GREGORIAN
BEGIN:VEVENT
DTSTAMP:20210122T050536Z
UID:4118b32f-88e8-465a-88cd-08b2b830cc79
DTSTART;VALUE=DATE:20201210
DESCRIPTION:Property ID# 496328\, Locatoin: In Rooms\, Ray White Manukau\, 
 level 2 Van den Brink Bldg\, 652 Great South Road Manukau\, Time: 5:00PM
SUMMARY:Auction for 
END:VEVENT
END:VCALENDAR
