BEGIN:VCALENDAR
VERSION:2.0
PRODID:icalendar-ruby
CALSCALE:GREGORIAN
BEGIN:VEVENT
DTSTAMP:20210122T050538Z
UID:4e8d678c-88bd-4846-bfdb-1745567df15c
DTSTART;VALUE=DATE:20201126
DESCRIPTION:Property ID# 494678\, Locatoin: In Rooms\, Ray White Manukau\, 
 level 2 Van den Brink Bldg\, 652 Great South Road Manukau\, Time: 5:00PM
SUMMARY:Auction for 
END:VEVENT
END:VCALENDAR
