BEGIN:VCALENDAR
VERSION:2.0
PRODID:icalendar-ruby
CALSCALE:GREGORIAN
BEGIN:VEVENT
DTSTAMP:20210122T050540Z
UID:94b6fff5-b911-43f5-bc1e-1bd0fe5233d6
DTSTART;VALUE=DATE:20201021
DESCRIPTION:Property ID# 491425\, Locatoin: On Site\, Time: 1:00PM
SUMMARY:Auction for 
END:VEVENT
END:VCALENDAR
