BEGIN:VCALENDAR
VERSION:2.0
PRODID:icalendar-ruby
CALSCALE:GREGORIAN
BEGIN:VEVENT
DTSTAMP:20210122T050519Z
UID:ae864570-5cde-4fa9-9a5a-9c6b7d18ddd2
DTSTART;VALUE=DATE:20201205
DESCRIPTION:Property ID# 490818\, Locatoin: On Site\, Time: 2:30PM
SUMMARY:Auction for 
END:VEVENT
END:VCALENDAR
