BEGIN:VCALENDAR
VERSION:2.0
PRODID:icalendar-ruby
CALSCALE:GREGORIAN
BEGIN:VEVENT
DTSTAMP:20210122T050955Z
UID:9fb9bf85-17e9-4017-8269-f97063552616
DTSTART;VALUE=DATE:20201008
DESCRIPTION:Property ID# 490242\, Locatoin: RayWhite Papatetoe 66 Great Sou
 th Road Papatoetoe\, Time: 4:00PM
SUMMARY:Auction for 
END:VEVENT
END:VCALENDAR
