BEGIN:VCALENDAR
VERSION:2.0
PRODID:icalendar-ruby
CALSCALE:GREGORIAN
BEGIN:VEVENT
DTSTAMP:20210122T050958Z
UID:09ee3c73-258c-4705-9e6e-ab72afbee120
DTSTART;VALUE=DATE:20201011
DESCRIPTION:Property ID# 489735\, Time: 12:00PM
SUMMARY:Auction for 
END:VEVENT
END:VCALENDAR
