BEGIN:VCALENDAR
VERSION:2.0
PRODID:icalendar-ruby
CALSCALE:GREGORIAN
BEGIN:VEVENT
DTSTAMP:20210122T050541Z
UID:7117f4c1-a539-4080-8f28-fd150cbb4616
DTSTART;VALUE=DATE:20201001
DESCRIPTION:Property ID# 489660\, Locatoin: In Rooms\, Ray White Manukau\, 
 652 Great South Road\, Level 2 Van Den Brink Building (above westpac)\, Ti
 me: 6:00PM
SUMMARY:Auction for 
END:VEVENT
END:VCALENDAR
