BEGIN:VCALENDAR
VERSION:2.0
PRODID:icalendar-ruby
CALSCALE:GREGORIAN
BEGIN:VEVENT
DTSTAMP:20210122T050521Z
UID:58467e43-456a-4c8b-b640-3092f19f58e2
DTSTART;VALUE=DATE:20200926
DESCRIPTION:Property ID# 489213\, Locatoin: On Site\, Time: 1:30PM
SUMMARY:Auction for 
END:VEVENT
END:VCALENDAR
