BEGIN:VCALENDAR
VERSION:2.0
PRODID:icalendar-ruby
CALSCALE:GREGORIAN
BEGIN:VEVENT
DTSTAMP:20210122T051006Z
UID:d100c886-1497-4064-a82d-4e08d3f87b0e
DTSTART;VALUE=DATE:20200915
DESCRIPTION:Property ID# 488071\, Locatoin: In-Rooms - LJ Hooker Pukekohe 6
 .00pm (unless sold prior)\, Time: 6:00PM
SUMMARY:Auction for 
END:VEVENT
END:VCALENDAR
