BEGIN:VCALENDAR
VERSION:2.0
PRODID:icalendar-ruby
CALSCALE:GREGORIAN
BEGIN:VEVENT
DTSTAMP:20210122T050544Z
UID:a81676f9-44bc-462c-88ea-48123d556a30
DTSTART;VALUE=DATE:20200820
DESCRIPTION:Property ID# 486229\, Locatoin: In Rooms\, Ray White Manukau\, 
 level 2 Van den Brink Bldg\, 652 Great South Road Manukau\, Time: 6:00PM
SUMMARY:Auction for 
END:VEVENT
END:VCALENDAR
