BEGIN:VCALENDAR
VERSION:2.0
PRODID:icalendar-ruby
CALSCALE:GREGORIAN
BEGIN:VEVENT
DTSTAMP:20210122T050546Z
UID:aed67501-428c-4eaf-b465-c0d2400c1b5d
DTSTART;VALUE=DATE:20200822
DESCRIPTION:Property ID# 486227\, Locatoin: In Rooms\, Ray White Manukau\, 
 level 2 Van den Brink Bldg\, 652 Great South Road Manukau\, Time: 6:00PM
SUMMARY:Auction for 
END:VEVENT
END:VCALENDAR
