BEGIN:VCALENDAR
VERSION:2.0
PRODID:icalendar-ruby
CALSCALE:GREGORIAN
BEGIN:VEVENT
DTSTAMP:20210122T050547Z
UID:c0211053-d2a6-49b1-9ed7-01808e7c3a8d
DTSTART;VALUE=DATE:20200813
DESCRIPTION:Property ID# 485105\, Time: 6:00PM
SUMMARY:Auction for 
END:VEVENT
END:VCALENDAR
