BEGIN:VCALENDAR
VERSION:2.0
PRODID:icalendar-ruby
CALSCALE:GREGORIAN
BEGIN:VEVENT
DTSTAMP:20210122T050528Z
UID:a9d0a16d-ae0b-42c1-a55c-bc18cf2973d8
DTSTART;VALUE=DATE:20200408
DESCRIPTION:Property ID# 476742\, Locatoin: In Ray White rooms\, 66 Great S
 outh Road\, Papatoetoe 2025\, Time: 12:00PM
SUMMARY:Auction for 
END:VEVENT
END:VCALENDAR
