BEGIN:VCALENDAR
VERSION:2.0
PRODID:icalendar-ruby
CALSCALE:GREGORIAN
BEGIN:VEVENT
DTSTAMP:20210122T050604Z
UID:7ea7e6fd-6d2c-4d78-9cd0-e88e71489384
DTSTART;VALUE=DATE:20200123
DESCRIPTION:Property ID# 469629\, Locatoin: 6:30pm In rooms\, 128 Hurstmere
  Road\, Takapuna\, Time: 6:30PM
SUMMARY:Auction for 
END:VEVENT
END:VCALENDAR
