BEGIN:VCALENDAR
VERSION:2.0
PRODID:icalendar-ruby
CALSCALE:GREGORIAN
BEGIN:VEVENT
DTSTAMP:20210122T050606Z
UID:db9eb222-bbf9-41a0-aa4c-434f27c99b95
DTSTART;VALUE=DATE:20191215
DESCRIPTION:Property ID# 461824\, Locatoin: On site\, Time: 12:30PM
SUMMARY:Auction for 
END:VEVENT
END:VCALENDAR
