BEGIN:VCALENDAR
VERSION:2.0
PRODID:icalendar-ruby
CALSCALE:GREGORIAN
BEGIN:VEVENT
DTSTAMP:20210122T050534Z
UID:690e239f-526f-4729-8aa1-2f1cefbbf157
DTSTART;VALUE=DATE:20190923
DESCRIPTION:Property ID# 461216\, Time: 5:00PM
SUMMARY:Auction for 
END:VEVENT
END:VCALENDAR
